BEGIN:VCALENDAR
VERSION:2.0
PRODID:-//Club de Tiro Olímpico Alzira - ECPv4.9.13//NONSGML v1.0//EN
CALSCALE:GREGORIAN
METHOD:PUBLISH
X-WR-CALNAME:Club de Tiro Olímpico Alzira
X-ORIGINAL-URL:https://ctoalzira.es
X-WR-CALDESC:Eventos para Club de Tiro Olímpico Alzira
BEGIN:VTIMEZONE
TZID:UTC
BEGIN:STANDARD
TZOFFSETFROM:+0000
TZOFFSETTO:+0000
TZNAME:UTC
DTSTART:20200101T000000
END:STANDARD
END:VTIMEZONE
BEGIN:VEVENT
DTSTART;VALUE=DATE:20200524
DTEND;VALUE=DATE:20200525
DTSTAMP:20260422T195137
CREATED:20200116T200603Z
LAST-MODIFIED:20200116T200840Z
UID:4377-1590278400-1590364799@ctoalzira.es
SUMMARY:CAMPEONATO PROVINCIAL  PISTOLA  9 mm
DESCRIPTION:  \nTodo tirador que quiera participar en los Campeonatos Provinciales tendrá que hacer una preinscripción\, en la Federación\, cuyo plazo finalizará el jueves de la misma semana en que se celebre el Campeonato.\n
URL:https://ctoalzira.es/tirada/campeonato-provincial-pistola-9-mm/
END:VEVENT
END:VCALENDAR