BEGIN:VCALENDAR
VERSION:2.0
PRODID:-//Club de Tiro Olímpico Alzira - ECPv4.9.13//NONSGML v1.0//EN
CALSCALE:GREGORIAN
METHOD:PUBLISH
X-WR-CALNAME:Club de Tiro Olímpico Alzira
X-ORIGINAL-URL:https://ctoalzira.es
X-WR-CALDESC:Eventos para Club de Tiro Olímpico Alzira
BEGIN:VTIMEZONE
TZID:UTC
BEGIN:STANDARD
TZOFFSETFROM:+0000
TZOFFSETTO:+0000
TZNAME:UTC
DTSTART:20190101T000000
END:STANDARD
END:VTIMEZONE
BEGIN:VEVENT
DTSTART;VALUE=DATE:20191116
DTEND;VALUE=DATE:20191117
DTSTAMP:20260418T193002
CREATED:20191204T190100Z
LAST-MODIFIED:20191204T190100Z
UID:265-1573862400-1573948799@ctoalzira.es
SUMMARY:EXÁMENES DE LA GUARDIA CIVIL
DESCRIPTION:
URL:https://ctoalzira.es/tirada/examenes-de-la-guardia-civil-3/
CATEGORIES:Exámenes de la Guardia Civil
END:VEVENT
END:VCALENDAR