BEGIN:VCALENDAR
VERSION:2.0
PRODID:-//Club de Tiro Olímpico Alzira - ECPv4.9.13//NONSGML v1.0//EN
CALSCALE:GREGORIAN
METHOD:PUBLISH
X-WR-CALNAME:Club de Tiro Olímpico Alzira
X-ORIGINAL-URL:https://ctoalzira.es
X-WR-CALDESC:Eventos para Club de Tiro Olímpico Alzira
BEGIN:VTIMEZONE
TZID:UTC
BEGIN:STANDARD
TZOFFSETFROM:+0000
TZOFFSETTO:+0000
TZNAME:UTC
DTSTART:20200101T000000
END:STANDARD
END:VTIMEZONE
BEGIN:VEVENT
DTSTART;VALUE=DATE:20201121
DTEND;VALUE=DATE:20201122
DTSTAMP:20260422T181306
CREATED:20200116T204653Z
LAST-MODIFIED:20230802T181252Z
UID:4407-1605916800-1606003199@ctoalzira.es
SUMMARY:EXAMENES  GUARDIA CIVIL
DESCRIPTION:SABADO  9h \n
URL:https://ctoalzira.es/tirada/examenes-guardia-civil-3/
END:VEVENT
END:VCALENDAR