BEGIN:VCALENDAR
VERSION:2.0
PRODID:-//Club de Tiro Olímpico Alzira - ECPv4.9.13//NONSGML v1.0//EN
CALSCALE:GREGORIAN
METHOD:PUBLISH
X-WR-CALNAME:Club de Tiro Olímpico Alzira
X-ORIGINAL-URL:https://ctoalzira.es
X-WR-CALDESC:Eventos para Club de Tiro Olímpico Alzira
BEGIN:VTIMEZONE
TZID:UTC
BEGIN:STANDARD
TZOFFSETFROM:+0000
TZOFFSETTO:+0000
TZNAME:UTC
DTSTART:20200101T000000
END:STANDARD
END:VTIMEZONE
BEGIN:VEVENT
DTSTART;TZID=UTC:20200418T080000
DTEND;TZID=UTC:20200418T170000
DTSTAMP:20260422T212523
CREATED:20200116T194938Z
LAST-MODIFIED:20200116T194938Z
UID:4368-1587196800-1587229200@ctoalzira.es
SUMMARY:EXAMENES  GUARDIA CIVIL
DESCRIPTION:SABADO  9 H \n
URL:https://ctoalzira.es/tirada/examenes-guardia-civil/
END:VEVENT
END:VCALENDAR