BEGIN:VCALENDAR
VERSION:2.0
PRODID:-//Club de Tiro Olímpico Alzira - ECPv4.9.13//NONSGML v1.0//EN
CALSCALE:GREGORIAN
METHOD:PUBLISH
X-WR-CALNAME:Club de Tiro Olímpico Alzira
X-ORIGINAL-URL:https://ctoalzira.es
X-WR-CALDESC:Eventos para Club de Tiro Olímpico Alzira
BEGIN:VTIMEZONE
TZID:UTC
BEGIN:STANDARD
TZOFFSETFROM:+0000
TZOFFSETTO:+0000
TZNAME:UTC
DTSTART:20200101T000000
END:STANDARD
END:VTIMEZONE
BEGIN:VEVENT
DTSTART;VALUE=DATE:20200208
DTEND;VALUE=DATE:20200209
DTSTAMP:20260422T212903
CREATED:20200116T151639Z
LAST-MODIFIED:20200128T114238Z
UID:4348-1581120000-1581206399@ctoalzira.es
SUMMARY:OPEN AUTONOMICO  ( Pistola F.C.)
DESCRIPTION:SABADO A LAS 9 H \nVALIDO PARA RENOVAR LA LICENCIA DE ARMAS DE  2ª CLASE\, Y PARA PODER PASAR DE 3ª A 2ª CLASE DE LICENCIA DE ARMAS.                                                                                                  EN EL CASO DE SER PARA CAMBIAR DE CLASE\, DESPUÉS DE REALIZAR EL OPEN\, HAY QUE PREPARAR LA DOCUMENTACIÓN NECESARIA PARA PODER TRAMITAR EL CAMBIO \n
URL:https://ctoalzira.es/tirada/open-autonomico-pistola-f-c/
END:VEVENT
END:VCALENDAR