BEGIN:VCALENDAR
VERSION:2.0
PRODID:-//Club de Tiro Olímpico Alzira - ECPv4.9.13//NONSGML v1.0//EN
CALSCALE:GREGORIAN
METHOD:PUBLISH
X-WR-CALNAME:Club de Tiro Olímpico Alzira
X-ORIGINAL-URL:https://ctoalzira.es
X-WR-CALDESC:Eventos para Club de Tiro Olímpico Alzira
BEGIN:VTIMEZONE
TZID:UTC
BEGIN:STANDARD
TZOFFSETFROM:+0000
TZOFFSETTO:+0000
TZNAME:UTC
DTSTART:20190101T000000
END:STANDARD
END:VTIMEZONE
BEGIN:VEVENT
DTSTART;VALUE=DATE:20190518
DTEND;VALUE=DATE:20190519
DTSTAMP:20260423T010143
CREATED:20191204T184605Z
LAST-MODIFIED:20191204T184605Z
UID:235-1558137600-1558223999@ctoalzira.es
SUMMARY:OPEN AUTONÓMICO - Pistola F.Central.
DESCRIPTION:
URL:https://ctoalzira.es/tirada/open-autonomico-pistola-f-central/
CATEGORIES:Open autonómico
END:VEVENT
END:VCALENDAR