BEGIN:VCALENDAR
VERSION:2.0
PRODID:-//Club de Tiro Olímpico Alzira - ECPv4.9.13//NONSGML v1.0//EN
CALSCALE:GREGORIAN
METHOD:PUBLISH
X-WR-CALNAME:Club de Tiro Olímpico Alzira
X-ORIGINAL-URL:https://ctoalzira.es
X-WR-CALDESC:Eventos para Club de Tiro Olímpico Alzira
BEGIN:VTIMEZONE
TZID:UTC
BEGIN:STANDARD
TZOFFSETFROM:+0000
TZOFFSETTO:+0000
TZNAME:UTC
DTSTART:20200101T000000
END:STANDARD
END:VTIMEZONE
BEGIN:VEVENT
DTSTART;VALUE=DATE:20200126
DTEND;VALUE=DATE:20200127
DTSTAMP:20260422T231259
CREATED:20200115T203402Z
LAST-MODIFIED:20200116T151345Z
UID:4344-1579996800-1580083199@ctoalzira.es
SUMMARY:TIRADA DE INVIERNO  ... Pistola F.C  ( Completa )
DESCRIPTION:
URL:https://ctoalzira.es/tirada/tirada-de-invierno-pistola-f-c-completa/
END:VEVENT
END:VCALENDAR