BEGIN:VCALENDAR
VERSION:2.0
PRODID:-//Club de Tiro Olímpico Alzira - ECPv4.9.13//NONSGML v1.0//EN
CALSCALE:GREGORIAN
METHOD:PUBLISH
X-WR-CALNAME:Club de Tiro Olímpico Alzira
X-ORIGINAL-URL:https://ctoalzira.es
X-WR-CALDESC:Eventos para Club de Tiro Olímpico Alzira
BEGIN:VTIMEZONE
TZID:UTC
BEGIN:STANDARD
TZOFFSETFROM:+0000
TZOFFSETTO:+0000
TZNAME:UTC
DTSTART:20200101T000000
END:STANDARD
END:VTIMEZONE
BEGIN:VEVENT
DTSTART;VALUE=DATE:20201004
DTEND;VALUE=DATE:20201005
DTSTAMP:20260422T181653
CREATED:20200116T203858Z
LAST-MODIFIED:20200116T203858Z
UID:4399-1601769600-1601855999@ctoalzira.es
SUMMARY:XXIX  TIRADA  COMUNIDAD VALENCIANA  ( Pistola F. C. ) PRECISIÓN
DESCRIPTION:TIRADA EXTRAORDINARIA \n
URL:https://ctoalzira.es/tirada/xxix-tirada-comunidad-valenciana-pistola-f-c-precision/
END:VEVENT
END:VCALENDAR